BEGIN:VCALENDAR
VERSION:2.0
PRODID:-//Eventin//Event Calendar//EN
CALSCALE:GREGORIAN
METHOD:PUBLISH
BEGIN:VEVENT
UID:8a10c60071fcc82554a6bc62cd720bca@akslobodatehnograd.ba
SUMMARY:SVETSKO PRVENSTVO U ULITIMATIVU
DESCRIPTION:Lokacija: Budapest / HUN\nSekcija: Kalendar takmičenja ASBiH\n
 Mjesec: Septembar
LOCATION:Budapest
DTSTAMP:20260420T142113Z
DTSTART:20260910T220000Z
DTEND:20260913T215500Z
END:VEVENT
END:VCALENDAR
