BEGIN:VCALENDAR
VERSION:2.0
PRODID:-//Eventin//Event Calendar//EN
CALSCALE:GREGORIAN
METHOD:PUBLISH
BEGIN:VEVENT
UID:a6e4eb3b9929796c73f8bfbe3c0ec640@akslobodatehnograd.ba
SUMMARY:17. Medjunarodni atletski miting – Zenica
DESCRIPTION:Lokacija: Zenica\nSekcija: Ostale manifestacije\nMjesec: Juni
LOCATION:Zenica
DTSTAMP:20260422T100623Z
DTSTART:20260602T220000Z
DTEND:20260603T215500Z
END:VEVENT
END:VCALENDAR
