BEGIN:VCALENDAR
VERSION:2.0
PRODID:-//Eventin//Event Calendar//EN
CALSCALE:GREGORIAN
METHOD:PUBLISH
BEGIN:VEVENT
UID:41e2d52eaea9f295c7e8f5ebd58dd9b2@akslobodatehnograd.ba
SUMMARY:11. Atletski miting Novi Grad
DESCRIPTION:Lokacija: Novi Grad \, Sarajevo\nSekcija: Ostale manifestacije\
 nMjesec: Juni
LOCATION:Sarajevo
DTSTAMP:20260422T102621Z
DTSTART:20260605T220000Z
DTEND:20260606T215500Z
END:VEVENT
END:VCALENDAR
