BEGIN:VCALENDAR
VERSION:2.0
PRODID:-//Eventin//Event Calendar//EN
CALSCALE:GREGORIAN
METHOD:PUBLISH
BEGIN:VEVENT
UID:d96c2287ed750ae3065f34c5d41994d0@akslobodatehnograd.ba
SUMMARY:17.Atletska utrka Velika Kladuša 2026.
DESCRIPTION:Lokacija: Velika Kladuša\nSekcija: Ostale manifestacije\nMjese
 c: Septembar
LOCATION:Velika Kladuša
DTSTAMP:20260422T100653Z
DTSTART:20260904T220000Z
DTEND:20260905T215500Z
END:VEVENT
END:VCALENDAR
